BEGIN:VCALENDAR
VERSION:2.0
PRODID:-//ASAS PORTAL - ECPv6.0.11//NONSGML v1.0//EN
CALSCALE:GREGORIAN
METHOD:PUBLISH
X-WR-CALNAME:ASAS PORTAL
X-ORIGINAL-URL:https://www.asas.my
X-WR-CALDESC:Events for ASAS PORTAL
REFRESH-INTERVAL;VALUE=DURATION:PT1H
X-Robots-Tag:noindex
X-PUBLISHED-TTL:PT1H
BEGIN:VTIMEZONE
TZID:Asia/Shanghai
BEGIN:STANDARD
TZOFFSETFROM:+0800
TZOFFSETTO:+0800
TZNAME:CST
DTSTART:20260101T000000
END:STANDARD
END:VTIMEZONE
BEGIN:VEVENT
DTSTART;TZID=Asia/Shanghai:20260102T080000
DTEND;TZID=Asia/Shanghai:20260930T170000
DTSTAMP:20260422T180859
CREATED:20260102T033921Z
LAST-MODIFIED:20260105T012450Z
UID:5678-1767340800-1790787600@www.asas.my
SUMMARY:Continuous Training Programme
DESCRIPTION:  \nWe are pleased to share a preview of our Continuous Training Programme for 2026. This initiative offers a series of professional development opportunities led by experienced trainers. \nMark your calendars and stay connected for further announcements. Make these sessions part of your learning journey in 2026. \nFor enquiries\, please contact us at event@asas.my. \n 
URL:https://www.asas.my/event/continuous-training-programme/
CATEGORIES:Training
END:VEVENT
BEGIN:VEVENT
DTSTART;TZID=Asia/Shanghai:20260422T090000
DTEND;TZID=Asia/Shanghai:20260423T170000
DTSTAMP:20260422T180859
CREATED:20260112T015141Z
LAST-MODIFIED:20260209T082940Z
UID:5695-1776848400-1776963600@www.asas.my
SUMMARY:Financial Literacy for Non Finance Professionals
DESCRIPTION:We are pleased to announce the commencement of ASAS and MASYREF Collaboration with the title of Financial Literacy for Non Finance Professionals Part 1\, a two day intensive training designed to equip professionals with essential financial knowledge through a Shariah aligned lens. \nThis programme enables participants to interpret key financial statements\, understand core financial and accounting concepts\, assess business performance and risks\, and participate confidently in finance related discussions and decision making without requiring a finance background. \n🗓 9 to 10 February 2026\n🕘 9.00 a.m. to 5.00 p.m.\n📍 Kuala Lumpur \nThis marks an exciting milestone in the ASAS – Masyref collaboration as we introduce practical\, accessible and impactful financial training for the professional community. \n🔗 Physical registration form \n🔗 Online registration via Google Form \nTurning financial information into understanding with confidence \n#ASASMasryef\n#FinancialLiteracy\n#ProfessionalDevelopment\n#CapacityBuilding\n#LifelongLearning
URL:https://www.asas.my/event/financial-literacy-for-non-finance-professionals/
LOCATION:Kuala Lumpur
CATEGORIES:Training
ATTACH;FMTTYPE=image/jpeg:https://www.asas.my/wp-content/uploads/2026/02/FINANCIAL-LITERACY-FOR-NON-FINANCE-PROFESSIONALS_page-0001.jpg
ORGANIZER;CN="Association%20of%20Shariah%20Advisors%20in%20Islamic%20Finance%20%28ASAS%29":MAILTO:info@asas.my
END:VEVENT
END:VCALENDAR