BEGIN:VCALENDAR
VERSION:2.0
PRODID:-//ASAS PORTAL - ECPv6.0.11//NONSGML v1.0//EN
CALSCALE:GREGORIAN
METHOD:PUBLISH
X-ORIGINAL-URL:https://www.asas.my
X-WR-CALDESC:Events for ASAS PORTAL
REFRESH-INTERVAL;VALUE=DURATION:PT1H
X-Robots-Tag:noindex
X-PUBLISHED-TTL:PT1H
BEGIN:VTIMEZONE
TZID:Asia/Shanghai
BEGIN:STANDARD
TZOFFSETFROM:+0800
TZOFFSETTO:+0800
TZNAME:CST
DTSTART:20250101T000000
END:STANDARD
END:VTIMEZONE
BEGIN:VEVENT
DTSTART;VALUE=DATE:20250218
DTEND;VALUE=DATE:20250219
DTSTAMP:20260425T195634
CREATED:20250109T015024Z
LAST-MODIFIED:20250204T084307Z
UID:4546-1739836800-1739923199@www.asas.my
SUMMARY:SHARIAH COMPLIANT INVESTMENT AND SCREENING METHODOLOGIES
DESCRIPTION:Greetings from the Association of Shariah Advisors in Islamic Finance (ASAS)! \nASAS will be organizing a course on: \n𝐒𝐇𝐀𝐑𝐈𝐀𝐇 𝐂𝐎𝐌𝐏𝐋𝐈𝐀𝐍𝐓 𝐈𝐍𝐕𝐄𝐒𝐓𝐌𝐄𝐍𝐓 𝐀𝐍𝐃 𝐒𝐂𝐑𝐄𝐄𝐍𝐈𝐍𝐆 𝐌𝐄𝐓𝐇𝐎𝐃𝐎𝐋𝐎𝐆𝐈𝐄𝐒 \nTopic to covered in the training: \n✅Module 1: Introduction To Gold\, Stock and Digital Assets\n✅Module 2: Shariah Framework and Resolutions on Gold Investment\n✅Module 3: Shariah Framework and Resolutions on Stock Trading\n✅Module 4: Shariah Framework and Resolutions on Digital Asset\n✅Module 5: Shariah Screening Methodologies for Gold Investment\n✅Module 6: Shariah Screening Methodologies for Stock\n✅Module 7: Shariah Screening Methodologies for Digital Asset\n✅Module 8: Application Of AI and GPT On Investment Screening \nDetails of the course are as per below: \n🗓️𝐃𝐚𝐭𝐞: 𝟏𝟖 𝐅𝐞𝐛𝐫𝐮𝐚𝐫𝐲 𝟐𝟎𝟐𝟓 (𝐓𝐡𝐮𝐫𝐬𝐝𝐚𝐲)\n🕐𝐓𝐢𝐦𝐞: 𝟗.𝟎𝟎 𝐚𝐦 – 𝟓.𝟎𝟎 𝐩𝐦\n🙎🏼‍♂️𝐓𝐫𝐚𝐢𝐧𝐞𝐫: 𝐌𝐫 𝐀𝐫𝐡𝐚𝐦 𝐌𝐞𝐫𝐢𝐜𝐚𝐧\n🏫𝐕𝐞𝐧𝐮𝐞: 𝐀𝐈𝐂𝐁\, 𝐊𝐮𝐚𝐥𝐚 𝐋𝐮𝐦𝐩𝐮𝐫 \nRegister Here >> https://forms.gle/NU3KXJ2MWyhXeCc19 <<\nDownload Brochure Here >> https://t.ly/l25x4 << \nShould you have any inquiries\, please do not hesitate to contact us at event@asas.my or +603 6203 4643. \nThank you.
URL:https://www.asas.my/event/4546/
LOCATION:AICB\, Kuala Lumpur
CATEGORIES:Training
ATTACH;FMTTYPE=image/jpeg:https://www.asas.my/wp-content/uploads/2025/01/CPD-POSTER-Shariah-Compliant-Investment-and-Screening-Methodologies_page-0001.jpg
ORGANIZER;CN="Association%20of%20Shariah%20Advisors%20in%20Islamic%20Finance%20%28ASAS%29":MAILTO:info@asas.my
END:VEVENT
BEGIN:VEVENT
DTSTART;VALUE=DATE:20250224
DTEND;VALUE=DATE:20250225
DTSTAMP:20260425T195634
CREATED:20250128T065442Z
LAST-MODIFIED:20250128T092215Z
UID:4581-1740355200-1740441599@www.asas.my
SUMMARY:ASAS 14TH ANNUAL GENERAL MEETING (AGM)
DESCRIPTION:Dear Respected ASAS Members\, \nASAS 14th Annual General Meeting (AGM) is scheduled to take place on Monday\, 24th February 2025. \nBlock your calendars\, and ensure that you have cleared any arrears for the year 2024. \n>>>> REGISTER HERE <<<< \nWe look forward to seeing you on the day! \n#ASAS #ASASMembers2025 #ASAS_AGM
URL:https://www.asas.my/event/asas-14th-annual-general-meeting-agm/
CATEGORIES:Training
ATTACH;FMTTYPE=image/jpeg:https://www.asas.my/wp-content/uploads/2025/01/AGM-Poster-01-scaled.jpg
ORGANIZER;CN="Association%20of%20Shariah%20Advisors%20in%20Islamic%20Finance%20%28ASAS%29":MAILTO:info@asas.my
END:VEVENT
BEGIN:VEVENT
DTSTART;VALUE=DATE:20250224
DTEND;VALUE=DATE:20250225
DTSTAMP:20260425T195634
CREATED:20250128T091426Z
LAST-MODIFIED:20250128T092245Z
UID:4612-1740355200-1740441599@www.asas.my
SUMMARY:LIQA' ASAS 2025
DESCRIPTION:Join us at Liqa’ ASAS 2025! \nThe Growth of Talent Throughout the Development of Islamic Finance \nExplore the historical expertise of industry leaders in shaping Islamic finance talent. \nInaugurating a trilogy of ASAS dialogues on talent development. \n🗓️ Date: 24 February 2025\n⏰ Time: 9:00 a.m. – 11:00 a.m.\n📍 Venue: Function Room\, Sime Darby Convention Centre \nDon’t miss this opportunity to be part of an enriching experience. Stay tuned for more details and registration information! \nFor enquiries\, please contact us at:\n📧 Email: event@asas.my\n📞 Phone: 03-6203 4643 or 019-617 6203 \n#LiqaASAS2025 #IslamicFinance #TalentDevelopment #ProfessionalGrowth #Networking #KnowledgeExchange #ShariahOfficer
URL:https://www.asas.my/event/liqa-asas-2025/
CATEGORIES:Training
ATTACH;FMTTYPE=image/jpeg:https://www.asas.my/wp-content/uploads/2025/01/LIQA-Poster-01-02-scaled.jpg
ORGANIZER;CN="Association%20of%20Shariah%20Advisors%20in%20Islamic%20Finance%20%28ASAS%29":MAILTO:info@asas.my
END:VEVENT
END:VCALENDAR