BEGIN:VCALENDAR
VERSION:2.0
PRODID:-//ASAS PORTAL - ECPv6.0.11//NONSGML v1.0//EN
CALSCALE:GREGORIAN
METHOD:PUBLISH
X-WR-CALNAME:ASAS PORTAL
X-ORIGINAL-URL:https://www.asas.my
X-WR-CALDESC:Events for ASAS PORTAL
REFRESH-INTERVAL;VALUE=DURATION:PT1H
X-Robots-Tag:noindex
X-PUBLISHED-TTL:PT1H
BEGIN:VTIMEZONE
TZID:Asia/Shanghai
BEGIN:STANDARD
TZOFFSETFROM:+0800
TZOFFSETTO:+0800
TZNAME:CST
DTSTART:20250101T000000
END:STANDARD
END:VTIMEZONE
BEGIN:VEVENT
DTSTART;VALUE=DATE:20250910
DTEND;VALUE=DATE:20250911
DTSTAMP:20260425T085524
CREATED:20250814T011300Z
LAST-MODIFIED:20250814T011300Z
UID:4973-1757462400-1757548799@www.asas.my
SUMMARY:Sukuk For Non-Sukuk Practitioners (2nd Series)
DESCRIPTION:Greetings from the Association of Shariah Advisors in Islamic Finance (ASAS)! \nASAS will be organizing a Masterclass on: \nSukuk For Non-Sukuk Practitioners (2nd Series) \n📚Topic to covered in the training: \n✅Module 1: The Sukuk Ecosystem\n– Sukuk Overview\n– Shariah Standards and Regulations for Sukuk in Malaysia and GCC\n– Sukuk Structure \n✅Module 2: Sukuk Issuence (Trends and Challenges)\n– Innovation Sphere of Sukuk (With Case Studies)\n– Trends in The Global Sukuk Market (With Case Studies)\n– Issues in The Global Sukuk Market \nDetails of the course are as per below: \n🗓️ Date: 10 September 2025 (Wednesday)\n🕐 Time: 9.00 am – 5.00 pm\n🙎🏼‍♂️ Trainer: Dr. Muhammad Issyam Itam@Ismail\n🏫 Venue: ASAS Office\, Kuala Lumpur \nRegister Here >>> https://forms.gle/SgDyvz8u27UsJiF17 <<<\nDownload Brochure Here >>> https://t.ly/EP6_1 <<< \nShould you have any inquiries\, please do not hesitate to contact us at event@asas.my or +603 6203 4643.
URL:https://www.asas.my/event/sukuk-for-non-sukuk-practitioners-2nd-series/
LOCATION:ASAS\, ASAS\, B4-3-1\, Solaris Dutamas\, Kuala Lumpur\, Kuala Lumpur\, 50480\, Malaysia
CATEGORIES:Training
ATTACH;FMTTYPE=image/png:https://www.asas.my/wp-content/uploads/2025/08/Artboard-1.png
ORGANIZER;CN="Association%20of%20Shariah%20Advisors%20in%20Islamic%20Finance%20%28ASAS%29":MAILTO:info@asas.my
END:VEVENT
BEGIN:VEVENT
DTSTART;VALUE=DATE:20250923
DTEND;VALUE=DATE:20250924
DTSTAMP:20260425T085524
CREATED:20250717T035449Z
LAST-MODIFIED:20250717T035449Z
UID:4937-1758585600-1758671999@www.asas.my
SUMMARY:Application of Jami' Fiqh for Islamic Finance Research
DESCRIPTION:Greetings from the Association of Shariah Advisors in Islamic Finance (ASAS)! \nASAS will be organizing a course on: \nApplication of Jami’ Fiqh for Islamic Finance Research \n📚Topic to covered in the training: \n✅ Providing exposure to the use of Islamic e-libraries\, in particular Jami’ Fiqh\n✅ Providing efficient and accurate ways to search major Islamic books/ references.\n✅ Explaining various techniques of search within Jami’ Fiqh i.e. textual\, fiqhi\, mustalahat\, maudhu’ie\, and muta’addid.\n✅ Explaining the function of ‘analyzing’ (التحليل) and its importance in improving the user’s understanding when reading a fiqh book.\n✅ Maximizing resources for wide options of Fiqh Muamalat consideration and comparative purposes. \nDetails of the course are as per below: \n🗓️ Date: 23 September 2025 (Tuesday)\n🕐 Time: 9.00 am – 5.00 pm\n🙎🏼‍♂️ Trainer: Mr Lokmanulhakim Hussain\n🏫 Venue: Kuala Lumpur \nRegister Here >>> https://forms.gle/4zye4JT5TDH3nTwu5 <<<\nDownload Brochure Here >>> https://t.ly/1J3hQ <<< \nShould you have any inquiries\, please do not hesitate to contact us at event@asas.my or +603 6203 4643. \nThank you.
URL:https://www.asas.my/event/application-of-jami-fiqh-for-islamic-finance-research-2/
CATEGORIES:Training
ATTACH;FMTTYPE=image/jpeg:https://www.asas.my/wp-content/uploads/2025/07/WhatsApp-Image-2025-07-17-at-11.48.57-AM.jpeg
END:VEVENT
BEGIN:VEVENT
DTSTART;VALUE=DATE:20250930
DTEND;VALUE=DATE:20251001
DTSTAMP:20260425T085524
CREATED:20250717T035811Z
LAST-MODIFIED:20250717T040541Z
UID:4939-1759190400-1759276799@www.asas.my
SUMMARY:Future-Proofing Shariah Review: Mastering Integrated Compliance for a Resilient Islamic Finance Industry
DESCRIPTION:Greetings from the Association of Shariah Advisors in Islamic Finance (ASAS)! \nASAS will be organizing a course on: \nFuture-Proofing Shariah Review: Mastering Integrated Compliance for a Resilient Islamic Finance Industry \n📚Topic to covered in the training: \n✅Module 1: The Evolving Shariah Governance Landscape\nExplore the post-2025 Shariah governance framework\, regulatory updates\, and emerging trends shaping integrated compliance.\n✅Module 2: Foundations of Effective Shariah Review\nEstablish the core principles\, structure\, and risk-based methodology for impactful Shariah Review.\n✅Module 3: Conducting Impactful Shariah Review Exercises\nMaster the end-to-end Shariah Review process—from planning and execution to reporting and remediation.\n✅Module 4: Special Focus Areas in Shariah Review (Post-2025)\nDelve into advanced review techniques for digital finance\, SRI\, complex transactions\, and evolving governance challenges. \nDetails of the course are as per below: \n🗓️ Date: 30 September 2025 (Tuesday)\n🕐 Time: 9.00 am – 5.00 pm\n🙎🏼‍♂️ Trainer: Mr Mohd Feqah Ngadil\n🏫 Venue: Kuala Lumpur \nRegister Here >>> https://forms.gle/4vptQtq7qsV4pMR89 <<<\nDownload Brochure Here >>> https://t.ly/2WonL <<< \nShould you have any inquiries\, please do not hesitate to contact us at event@asas.my or +603 6203 4643. \nThank you.
URL:https://www.asas.my/event/future-proofing-shariah-review-mastering-integrated-compliance-for-a-resilient-islamic-finance-industry/
CATEGORIES:Training
ATTACH;FMTTYPE=image/jpeg:https://www.asas.my/wp-content/uploads/2025/07/WhatsApp-Image-2025-07-17-at-11.48.58-AM.jpeg
ORGANIZER;CN="Association%20of%20Shariah%20Advisors%20in%20Islamic%20Finance%20%28ASAS%29":MAILTO:info@asas.my
END:VEVENT
END:VCALENDAR