BEGIN:VCALENDAR
VERSION:2.0
PRODID:-//ASAS PORTAL - ECPv6.0.11//NONSGML v1.0//EN
CALSCALE:GREGORIAN
METHOD:PUBLISH
X-ORIGINAL-URL:https://www.asas.my
X-WR-CALDESC:Events for ASAS PORTAL
REFRESH-INTERVAL;VALUE=DURATION:PT1H
X-Robots-Tag:noindex
X-PUBLISHED-TTL:PT1H
BEGIN:VTIMEZONE
TZID:Asia/Shanghai
BEGIN:STANDARD
TZOFFSETFROM:+0800
TZOFFSETTO:+0800
TZNAME:CST
DTSTART:20240101T000000
END:STANDARD
END:VTIMEZONE
BEGIN:VEVENT
DTSTART;VALUE=DATE:20240911
DTEND;VALUE=DATE:20240913
DTSTAMP:20260426T054449
CREATED:20240812T090232Z
LAST-MODIFIED:20240812T090232Z
UID:3816-1726012800-1726185599@www.asas.my
SUMMARY:HARMONISING CREDIT PRACTICES WITH SHARIAH PRINCIPLES
DESCRIPTION:Greetings from the Association of Shariah Advisors in Islamic Finance (ASAS)! \nASAS will be organizing a course on: \nHARMONISING CREDIT PRACTICES WITH SHARIAH PRINCIPLES. \n📚 Topic to covered in the training: \n✅ CCA in the nutshell\n✅ Overview of Islamic financial system in Malaysia\n✅ Credit- Principles\, Roles of Credit Officers\n✅ The Application of Credit Process in Financing\n✅ Origination – Marketing of Financial Services\n✅ Approval – Credit Underwriting\n✅ Administration – Securities & Credit Supports\n✅ Monitoring – Payment Collection\, Review\, Red Flags\n✅ Credit Risk Management\n✅ Application of Shariah Contracts\n✅ Shariah Non-Compliance Risk\n✅ Case Studies \nDetails of the course are as per below:\n🗓️ Date: 11-12 September 2024 (Wednesday & Thursday)\n🕰️ Time: 9.00 am – 5.00 pm\n👨🏻‍💻 Trainer: Kartini Yusoff\n🏢 Venue: AICB\, Kuala Lumpur \nRegister Here: https://forms.gle/vu1p4JTkJRrFKDbF6 \nDownload Brochure Here: HARMONISING CREDIT PRACTICES WITH SHARIAH PRINCIPLES \nShould you have any inquiries\, please do not hesitate to contact us at event@asas.my or +603 6203 4643. \nThank you.
URL:https://www.asas.my/event/harmonising-credit-practices-with-shariah-principles/
LOCATION:AICB\, Kuala Lumpur
CATEGORIES:Training
ATTACH;FMTTYPE=image/jpeg:https://www.asas.my/wp-content/uploads/2024/08/5caf8f4f-4dee-4fc1-9c9a-f004315c1c0d.jpg
ORGANIZER;CN="Association%20of%20Shariah%20Advisors%20in%20Islamic%20Finance%20%28ASAS%29":MAILTO:info@asas.my
END:VEVENT
END:VCALENDAR