BEGIN:VCALENDAR
VERSION:2.0
PRODID:-//ASAS PORTAL - ECPv6.0.11//NONSGML v1.0//EN
CALSCALE:GREGORIAN
METHOD:PUBLISH
X-ORIGINAL-URL:https://www.asas.my
X-WR-CALDESC:Events for ASAS PORTAL
REFRESH-INTERVAL;VALUE=DURATION:PT1H
X-Robots-Tag:noindex
X-PUBLISHED-TTL:PT1H
BEGIN:VTIMEZONE
TZID:Asia/Shanghai
BEGIN:STANDARD
TZOFFSETFROM:+0800
TZOFFSETTO:+0800
TZNAME:CST
DTSTART:20250101T000000
END:STANDARD
END:VTIMEZONE
BEGIN:VEVENT
DTSTART;VALUE=DATE:20250819
DTEND;VALUE=DATE:20250820
DTSTAMP:20260425T114857
CREATED:20250421T020641Z
LAST-MODIFIED:20250507T071005Z
UID:4828-1755561600-1755647999@www.asas.my
SUMMARY:MANAGEMENT OF MEDICAL TAKAFUL BUSINESS
DESCRIPTION:Greetings from the Association of Shariah Advisors in Islamic Finance (ASAS)! \nASAS will be organizing a course on: \nMANAGEMENT OF MEDICAL TAKAFUL BUSINESS \nTopic to covered in the training: \n✅Module 1: Developments and issues in the offering of Medical/Health Takaful Products.\n✅Module 2: Re-Pricing exercise and the analysis from Shariah perspective.\n✅Module 3: Discussions on the relevant guidelines and the way forward. \nDetails of the course are as per below: \n🗓️ Date: 19 August 2025 ( Tuesday)\n🕐 Time: 9.00 am – 5.00 pm\n🙎🏼‍♂️ Trainer: Ms Yusaini Yusoff\n🏫 Venue: Kuala Lumpur \nRegister Here >>>https://lnkd.in/gpGQcEkZ<<<\nDownload Brochure Here >>>https://t.ly/Uab1J<<< \nShould you have any inquiries\, please do not hesitate to contact us at event@asas.my or +603 6203 4643. \nThank you.
URL:https://www.asas.my/event/management-of-medical-takaful-business/
LOCATION:AICB\, Kuala Lumpur
CATEGORIES:Training
ATTACH;FMTTYPE=image/jpeg:https://www.asas.my/wp-content/uploads/2025/05/WhatsApp-Image-2025-05-07-at-2.34.44-PM.jpeg
ORGANIZER;CN="Association%20of%20Shariah%20Advisors%20in%20Islamic%20Finance%20%28ASAS%29":MAILTO:info@asas.my
END:VEVENT
END:VCALENDAR