BEGIN:VCALENDAR
VERSION:2.0
PRODID:-//ASAS PORTAL - ECPv6.0.11//NONSGML v1.0//EN
CALSCALE:GREGORIAN
METHOD:PUBLISH
X-WR-CALNAME:ASAS PORTAL
X-ORIGINAL-URL:https://www.asas.my
X-WR-CALDESC:Events for ASAS PORTAL
REFRESH-INTERVAL;VALUE=DURATION:PT1H
X-Robots-Tag:noindex
X-PUBLISHED-TTL:PT1H
BEGIN:VTIMEZONE
TZID:Asia/Shanghai
BEGIN:STANDARD
TZOFFSETFROM:+0800
TZOFFSETTO:+0800
TZNAME:CST
DTSTART:20200101T000000
END:STANDARD
END:VTIMEZONE
BEGIN:VEVENT
DTSTART;TZID=Asia/Shanghai:20240709T090000
DTEND;TZID=Asia/Shanghai:20240709T170000
DTSTAMP:20260425T001140
CREATED:20240610T022033Z
LAST-MODIFIED:20240613T042002Z
UID:3763-1720515600-1720544400@www.asas.my
SUMMARY:MANAGEMENT OF FAMILY  TAKAFUL PARTICIPANT RISK FUNDS : ANALYSIS OF THE RELEVANT IFSA 2013 SCHEDULES
DESCRIPTION:Greetings from the Association of Shariah Advisors in Islamic Finance (ASAS)! \nASAS will be organising a course on: \nMANAGEMENT OF FAMILY TAKAFUL PARTICIPANT RISK FUNDS: ANALYSIS OF THE RELEVANT IFSA 2013 SCHEDULES. \n📚 Topic to covered in the training: \n✅ Introduction of family Takaful Business.\n✅ Highlights on the IFSA 2013 & TOF requirements in the management of the participant Risk Fund/ Tabarru’ Fund – discussion on the need to manage the Fund in the “best interest of the Takaful Participants”.\n✅ Issues & challenges in the implementation of Schedules 8\,9 & 10 of the IFSA 2013. \nDetails of the course are as per below: \n🗓️ Date: 9 July 2024 (Tuesday)\n🕰️ Time: 9.00 am – 5.00 pm\n👨🏻‍💻 Trainer: Mrs. Yusaini Yusof\n🏢 Venue: AICB\, Kuala Lumpur \nRegister Here: https://t.ly/dTBr6 \nDownload Brochure Here: https://shorturl.at/Xw6CA \nShould you have any inquiries\, please do not hesitate to contact us at event@asas.my or +603 6203 4643. \nThank you.
URL:https://www.asas.my/event/management-of-family-takaful-participant-risk-funds-analysis-of-the-relevant-ifsa-2013-schedules-2/
LOCATION:AICB\, Kuala Lumpur
CATEGORIES:Training
ATTACH;FMTTYPE=image/png:https://www.asas.my/wp-content/uploads/2024/06/CPD-IFSA-01.png
ORGANIZER;CN="Association%20of%20Shariah%20Advisors%20in%20Islamic%20Finance%20%28ASAS%29":MAILTO:info@asas.my
END:VEVENT
BEGIN:VEVENT
DTSTART;TZID=Asia/Shanghai:20240305T090000
DTEND;TZID=Asia/Shanghai:20240305T110000
DTSTAMP:20260425T001140
CREATED:20240228T074132Z
LAST-MODIFIED:20240228T075903Z
UID:3468-1709629200-1709636400@www.asas.my
SUMMARY:LIQA' 2024
DESCRIPTION:  \nAssalamualaikum wrt wbh\, \nDear Tuan/Puan\, \nWarm greetings from the Association of Shariah Advisors in Islamic Finance Malaysia (ASAS)! \n🌿 Join us at LIQA’ ASAS 2024\, in tandem with the 13th ASAS Annual General Meeting. Explore “Generative AI to Manage Climate Change & Environmental Factors in Islamic Finance Portfolios : Empowering Shariah Advisory. 🌐 \nEvent details : \nDate: March 5\, 2024\nTime: 9:00 AM -11:00 AM\n📍 Venue : Executive Forum\, AICB\, Kuala Lumpur. \nFees :\nASAS Members: RM150\nNon-Members: RM200 \n(All Prices Shown Are Exclude of SST) \n🤝 For details and registration\, visit https://forms.gle/dS4CQ2QDh7C8r6d5A or Scan QR Code! \nLet’s shape a responsible Islamic finance future together! 🌍 \nFor inquiries and registration\, please contact us at:\nPhone: +603-6203 4643 / +6019-6176203 (Mr. Ammar / Ms. Nur Afifah Athirah)\nEmail: event@asas.my \n#ASAS2024 #IslamicFinance #GenerativeAI #Sustainability #ESGTalk
URL:https://www.asas.my/event/liqa-2024/
LOCATION:AICB\, Kuala Lumpur
CATEGORIES:Training
ATTACH;FMTTYPE=image/jpeg:https://www.asas.my/wp-content/uploads/2024/02/WhatsApp-Image-2024-02-28-at-3.43.28-PM.jpeg
END:VEVENT
BEGIN:VEVENT
DTSTART;TZID=Asia/Shanghai:20231202T083000
DTEND;TZID=Asia/Shanghai:20231202T130000
DTSTAMP:20260425T001140
CREATED:20231109T030534Z
LAST-MODIFIED:20231109T031337Z
UID:3313-1701505800-1701522000@www.asas.my
SUMMARY:ASAS Sports Tournament 2023
DESCRIPTION:  \nAssalamualaikum wrt brt\, \n  \nGreetings from the Association of Shariah Advisors in Islamic Finance Malaysia (ASAS). \n  \nWe are excited to announce that ASAS will be organizing the ASAS Sports Tournament 2023\, which will include Men’s Futsal and Badminton\, as well as Women’s Badminton. \n  \n🗓️ Date          : 2 December 2023 (Saturday) \n🕰️ Time          : 08:30 a.m. – 01:00 p.m. \n🏟️ Venue       : Arena Sukan Kuala Lumpur\, Setapak \n💰 Fees          : RM30 per person for ASAS Member \n                          RM45 per person for ASAS Non-member \n  \nTo secure your spot\, scan the QR code on the posters above or click on the links below to complete the registration in the form below: \n  \n>> ⚽ Futsal (Men): https://forms.gle/PP3utKBGFYfgFdvk6 << \n  \n>> 🏸 Badminton (Men): https://forms.gle/sNsuer6Dg8MCJY3L6 << \n  \n>> 🏸 Badminton (Women): https://forms.gle/vGgeELKffW4crumKA << \n  \n‼️ The number of participants for this event is limited. A confirmation email will be sent to validate your participation along with payment instructions\, prior to the event. \n  \nFor more details\, do visit our website: www.asas.my or contact us directly at 019-6176203 (Attn: Ammar Fadzil) \n  \nHurry up and register now! Join us for an unforgettable experience of camaraderie and spirited competition. Prepare to achieve your goals and forge enduring memories at the ASAS Sports Tournament 2023!
URL:https://www.asas.my/event/asas-sports-tournament-2023/
LOCATION:Arena Sukan Kuala Lumpur\, Setapak
CATEGORIES:Training
ATTACH;FMTTYPE=image/jpeg:https://www.asas.my/wp-content/uploads/2023/11/ASAS-TOURNAMENT-2023-01.jpg
ORGANIZER;CN="Association%20of%20Shariah%20Advisors%20in%20Islamic%20Finance%20%28ASAS%29":MAILTO:info@asas.my
END:VEVENT
BEGIN:VEVENT
DTSTART;TZID=Asia/Shanghai:20231018T090000
DTEND;TZID=Asia/Shanghai:20231018T170000
DTSTAMP:20260425T001140
CREATED:20230913T033013Z
LAST-MODIFIED:20230925T073550Z
UID:2928-1697619600-1697648400@www.asas.my
SUMMARY:THE ANATOMY OF BALANCE SHEET
DESCRIPTION:Greetings from the Association of Shariah Advisors in Islamic Finance (ASAS)! \nASAS will be organising a course on: \nTHE ANATOMY OF BALANCE SHEET \n📚 Objectives:\n✅ Introduce the process of measuring and reporting fi¬nancial position of a business entity through the Balance Sheet (Statement of Financial Position).\n✅ Explain the meanings and classi¬fication of assets (i.e. ¬xed assets and current assets).\n✅ Explain the meanings and classi¬fication of claims (i.e. equity\, long term liabilities and current liabilities).\n✅ Introduce the formats\, the items and the implications of Balance Sheet of Islamic fi¬nancial institutions.\n✅ Discuss emergent issues of measuring and reporting ¬financial position of Islamic ¬financial institutions. \nDetails of the course are as per below:\n🗓️ Date: 18 October 2023 (Wednesday)\n🕰️ Time: 9.00 am – 5.00 pm\n👨🏻‍💻 Trainer: Prof. Dr. Abdul Rahim Abdul Rahman\n🏢 Venue: AICB\, Kuala Lumpur \nRegister Here: https://t.ly/qZ-zZ \nDownload Brochure Here: https://t.ly/RKEG- \nShould you have any inquiries\, please do not hesitate to contact us at event@asas.my or +603 6203 4643. \nThank you.
URL:https://www.asas.my/event/the-anatomy-of-balance-sheet/
LOCATION:AICB\, Kuala Lumpur
CATEGORIES:Training
ATTACH;FMTTYPE=image/jpeg:https://www.asas.my/wp-content/uploads/2023/09/Anatomy-Of-Balance-01-1-scaled.jpg
ORGANIZER;CN="Association%20of%20Shariah%20Advisors%20in%20Islamic%20Finance%20%28ASAS%29":MAILTO:info@asas.my
END:VEVENT
BEGIN:VEVENT
DTSTART;TZID=Asia/Shanghai:20230912T090000
DTEND;TZID=Asia/Shanghai:20230913T170000
DTSTAMP:20260425T001140
CREATED:20230807T081541Z
LAST-MODIFIED:20230810T070827Z
UID:2601-1694509200-1694624400@www.asas.my
SUMMARY:APPLICATION OF JAMI' FIQH FOR ISLAMIC FINANCE RESEARCH
DESCRIPTION:Greetings from the Association of Shariah Advisors in Islamic Finance (ASAS)! \nASAS will be organising a course on: \nAPPLICATION OF JAMI’ FIQH FOR ISLAMIC FINANCE RESEARCH \n📚 Course Overview: \n✅ Providing exposure to the use of Islamic e-libraries\, in particular Jami’ Fiqh\n✅ Providing efficient and accurate ways to search major Islamic books/ references.\n✅Explaining various techniques of search within Jami’ Fiqh i.e. textual\, fiqhi\, mustalahat\, maudhu’ie\, and muta’addid.\n✅ Explaining the function of ‘analyzing’ (التحليل) and its importance in improving the user’s understanding when reading a fiqh book.\n✅ Maximizing resources for wide options of Fiqh Muamalat consideration and comparative purposes. \nDetails of the course are as per below: \n🗓️ Date: 12 & 13 September 2023 (Tuesday & Wednesday)\n🕰️ Time: 9.00 am – 5.00 pm\n👨🏻‍💻 Trainer: Mr. Lokmanulhakim Hussain\n🏢 Venue: AICB\, Kuala Lumpur \nRegister Here: https://t.ly/O77-f \nDownload Brochure Here: https://t.ly/eTaua \nShould you have any inquiries\, please do not hesitate to contact us at event@asas.my or +603 6203 4643. \nThank you.
URL:https://www.asas.my/event/application-of-jami-fiqh-for-islamic-finance-research/
LOCATION:AICB\, Kuala Lumpur
CATEGORIES:Training
ATTACH;FMTTYPE=image/jpeg:https://www.asas.my/wp-content/uploads/2023/08/JAMIE-FIQH-03.jpg
ORGANIZER;CN="Association%20of%20Shariah%20Advisors%20in%20Islamic%20Finance%20%28ASAS%29":MAILTO:info@asas.my
END:VEVENT
BEGIN:VEVENT
DTSTART;TZID=Asia/Shanghai:20230821T090000
DTEND;TZID=Asia/Shanghai:20230821T170000
DTSTAMP:20260425T001140
CREATED:20230724T100700Z
LAST-MODIFIED:20230807T081930Z
UID:2580-1692608400-1692637200@www.asas.my
SUMMARY:MANAGEMENT OF FAMILY TAKAFUL PARTICIPANT RISK FUNDS: ANALYSIS OF THE RELEVANT IFSA 2013 SCHEDULES.
DESCRIPTION:Greetings from the Association of Shariah Advisors in Islamic Finance (ASAS)! \nASAS will be organising a course on: \nMANAGEMENT OF FAMILY TAKAFUL PARTICIPANT RISK FUNDS: ANALYSIS OF THE RELEVANT IFSA 2013 SCHEDULES. \nTopic to covered in the training: \nIntroduction of family Takaful Business.\nHighlights on the IFSA 2013 & TOF requirements in the management of the participant Risk Fund/ Tabarru’ Fund – discussion on the need to manage the Fund in the “best interest of the Takaful Participants”.\nIssues & challenges in the implementation of Schedules 8\,9 & 10 of the IFSA 2013. \nDetails of the course are as per below: \nDate: 21 August 2023 (Monday)\nTime: 9.00 am – 5.00 pm\nTrainer: Mrs. Yusaini Yusof\nVenue: AICB\, Kuala Lumpur \nDownload Brochure Here >>https://t.ly/wnhd8<< \nShould you have any inquiries\, please do not hesitate to contact us at event@asas.my or +603 6203 4643. \nThank you.
URL:https://www.asas.my/event/management-of-family-takaful-participant-risk-funds-analysis-of-the-relevant-ifsa-2013-schedules/
LOCATION:AICB\, Kuala Lumpur
CATEGORIES:Training
ATTACH;FMTTYPE=image/jpeg:https://www.asas.my/wp-content/uploads/2023/07/Poster-IFSA-01.jpg
ORGANIZER;CN="Association%20of%20Shariah%20Advisors%20in%20Islamic%20Finance%20%28ASAS%29":MAILTO:info@asas.my
END:VEVENT
BEGIN:VEVENT
DTSTART;TZID=Asia/Shanghai:20230820T093000
DTEND;TZID=Asia/Shanghai:20230820T130000
DTSTAMP:20260425T001140
CREATED:20230724T074311Z
LAST-MODIFIED:20230807T081828Z
UID:2572-1692523800-1692536400@www.asas.my
SUMMARY:ASAS MEMBERS 1ST BOWLING TOURNAMENT 2023
DESCRIPTION:Greetings from the Association of Shariah Advisors Malaysia (ASAS) \nRegistrations are still open for ASAS Members 1st Bowling Tournament! \n🗓️ Date: 20 August 2023\n⏰ Time: 9:30am – 1:00pm\n📍 Venue: Gurney Bowl\, UTM KL\n✔️ Category: Men’s Team & Women’s Team\n✔️ Fees: RM 53 per person (SST 6% included) \nJoin us for an unforgettable experience filled with ukhwah\, friendly competition\, and the joy of bowling. Prepare to roll those strikes and create lasting memories at the ASAS Bowling Tournament 2023. \nTo secure your spot\, please complete the registration form below:\n>>> https://t.ly/44o8L <<< \nOpen to active ASAS members only\, both men and women with separate teams for each category. Kindly note that registration is limited to 50 participants only. \nDon’t miss out on this exciting event! Register now and be part of the ASAS Bowling Tournament 2023!
URL:https://www.asas.my/event/asas-bowling-tournament-2023/
LOCATION:Gurney Bowl\, UTM KL\, Malaysia
CATEGORIES:Training
ATTACH;FMTTYPE=image/png:https://www.asas.my/wp-content/uploads/2023/07/Bowling-ASAS-9-01.png
ORGANIZER;CN="Association%20of%20Shariah%20Advisors%20in%20Islamic%20Finance%20%28ASAS%29":MAILTO:info@asas.my
END:VEVENT
BEGIN:VEVENT
DTSTART;TZID=Asia/Shanghai:20230810T090000
DTEND;TZID=Asia/Shanghai:20230810T170000
DTSTAMP:20260425T001140
CREATED:20230711T072132Z
LAST-MODIFIED:20230807T082026Z
UID:2550-1691658000-1691686800@www.asas.my
SUMMARY:RECENT TRENDS & DEVELOPMENT IN ISLAMIC CAPITAL MARKET
DESCRIPTION:Greetings from the Association of Shariah Advisors in Islamic Finance (ASAS)!\n \nASAS will be organising a course on:\n \nRECENT TRENDS & DEVELOPMENT IN ISLAMIC CAPITAL MARKET\n \nTopic to covered in the training: \n\nThe fundamental overview of the Islamic capital market\nRecent regulatory changes\nRecent shariah resolutions\nIslamic fintech and digital assets\nSRI/ESG investment\n\nDetails of the course is as per below: \nDate : 10 August 2023 (Thursday)\nTime : 9.00 am – 5.00 pm\nTrainer: Mr. Zairulnizad Shahrim\nVenue : Zoom Platform \n>>Download Brochure Here<< \nShould you have any inquiries\, please do not hesitate to contact us at event@asas.my or +603 6203 4643.\n \nThank you.
URL:https://www.asas.my/event/recent-trends-development-in-islamic-capital-market/
LOCATION:Zoom Platform
CATEGORIES:Training
ATTACH;FMTTYPE=image/jpeg:https://www.asas.my/wp-content/uploads/2023/07/9f072e07-f44c-4e07-847b-5f360f656a51.jpg
ORGANIZER;CN="Association%20of%20Shariah%20Advisors%20in%20Islamic%20Finance%20%28ASAS%29":MAILTO:info@asas.my
END:VEVENT
BEGIN:VEVENT
DTSTART;TZID=Asia/Shanghai:20230706T090000
DTEND;TZID=Asia/Shanghai:20230706T170000
DTSTAMP:20260425T001140
CREATED:20230613T025925Z
LAST-MODIFIED:20230613T073727Z
UID:2408-1688634000-1688662800@www.asas.my
SUMMARY:STRUCTURING SALE BASED SUKUK
DESCRIPTION:Greetings from Association of Shariah Advisors in Islamic Finance Malaysia (ASAS)! \nASAS will be organising a full-day course on: \nSTRUCTURING SALE BASED SUKUK \nAt the end of the programme\, the participants will be able to : \n*Define Sukuk and its various issuances.\n*Structure different Sukuk contracts.\n*Distinguish the various applications of Islamic concept in the Islamic financial market instruments.\n*Discuss the issues and challenges in relevant Sukuk Contracts and it different application between AAOIFI and SAC SC. \nDetails of the course is as per below: \nDate : 6 July 2023 (Thursday)\nTime : 9.00 am – 5.00 pm\nVenue : Kuala Lumpur\nExpert Trainer : Pn. Norbaizurah Abdul Jabar \nHRD Claimable : 10001310200 (Course Serial Number) \n>> Click Here for Registration <<\n>> Click Here for Brochure << \nFor more information\, please do not hesitate to contact us at event@asas.my or +603 6203 4643 / +6019 617 6203. \nThank you.
URL:https://www.asas.my/event/structuring-sale-based-sukuk/
LOCATION:Kuala Lumpur
CATEGORIES:Training
ATTACH;FMTTYPE=image/jpeg:https://www.asas.my/wp-content/uploads/2023/06/WhatsApp-Image-2023-06-13-at-11.39.34-AM.jpeg
ORGANIZER;CN="Association%20of%20Shariah%20Advisors%20in%20Islamic%20Finance%20%28ASAS%29":MAILTO:info@asas.my
END:VEVENT
BEGIN:VEVENT
DTSTART;TZID=Asia/Shanghai:20221209T100000
DTEND;TZID=Asia/Shanghai:20221209T120000
DTSTAMP:20260425T001140
CREATED:20221207T145555Z
LAST-MODIFIED:20221207T145555Z
UID:2047-1670580000-1670587200@www.asas.my
SUMMARY:ASAS TALK SESSION: AAOIFI SHARIAH STANDARD NO. 59 ON THE SALE OF DEBT AND ITS RELEVANCE IN SUKUK STRUCTURING
DESCRIPTION:ASAS TALK SESSION: AAOIFI SHARIAH STANDARD NO. 59 ON THE SALE OF DEBT AND ITS RELEVANCE IN SUKUK STRUCTURING\n \nGreetings from Association of Shariah Advisors in Islamic Finance Malaysia (ASAS)!\n \n\n\nWe are pleased to inform that the Association of Shariah Advisors in Islamic Finance Malaysia (ASAS) will be conducting a talk session with the topic on AAOIFI Shariah Standard No. 59 on the Sale of Debt and Its Relevance in Sukuk Structuring.\n \n\n\n: Dec 9\, 2022\, 10:00 AM Kuala Lumpur\n: Virtually via Zoom Platform\n \n\n\nThe session will be presented by\nEncik Muhammad Issyam Ismail\, Manager\, Islamic Wholesale Banking\, CIMB Islamic Bank Berhad\n \n\n\nThis talk session is FREE for ASAS members and ONLY RM50 for non-members!\n \n\n\nTherefore\, our talk session requires registration.\n \nPlease register via the link below to book your spot today!\nRegister in advance for this talk session: \nhttps://forms.gle/tb3hJaq8ZuVqLysp9\n \nSo don’t forget to mark your calendar and see you there!
URL:https://www.asas.my/event/asas-talk-session-aaoifi-shariah-standard-no-59-on-the-sale-of-debt-and-its-relevance-in-sukuk-structuring/
LOCATION:Zoom Platform
CATEGORIES:Training 2022
ATTACH;FMTTYPE=image/jpeg:https://www.asas.my/wp-content/uploads/2022/12/ASAS.jpeg
ORGANIZER;CN="Association%20of%20Shariah%20Advisors%20in%20Islamic%20Finance%20%28ASAS%29":MAILTO:info@asas.my
END:VEVENT
BEGIN:VEVENT
DTSTART;TZID=Asia/Shanghai:20200331T090000
DTEND;TZID=Asia/Shanghai:20200410T170000
DTSTAMP:20260425T001140
CREATED:20160225T050428Z
LAST-MODIFIED:20200712T034203Z
UID:102-1585645200-1586538000@www.asas.my
SUMMARY:Sustainable Finance and Investment
DESCRIPTION:ABOUT THE PROGRAMME : \nThe increase traction for finance and markets to play a leading role to support achieving the goals of the United Nation’s sustainable development and more specifically climate change have witnessed unprecedented global responses. Participation of international bodies and agencies\, regulatory and supervisory authorities (RSAs) and financial markets have witnessed significant development and growth in sustainable finance and investment practices. \nThe workshop on Sustainable Finance and Investment aims to shed light on the development of sustainable finance globally including development of sustainability principles\, standards\, best practices and frameworks with a view to shift and reorient finance and capital\, including via climate and Islamic finance\, to support the objectives of public good\, change the economy into one that is environmentally-sustainable and promote climate resilience. The workshop will also highlight Islamic sustainable finance practices and discuss the current state and pace of Islamic finance evolution. \n  \nPROGRAMME OBJECTIVES : \nThe workshop is designed and intended to: \n\nIncrease awareness and understanding of sustainable finance and investment.\nBuild internal capacity and competency of institutions and its personnel.\nDemonstrate Islamic sustainable finance practices and share experiences of jurisdictions and institutions\, the lessons learnt and challenges it faces.\nAssist integrating sustainability risks into overall enterprise risk management framework\n\nDetails of the course is as per below: \nDate : 31 March – 2 April 2020 (Tuesday – Thursday)\nTime : 9.00 am – 5.00 pm\nVenue : Hotel Istana\, Kuala Lumpur\nExpert Trainer : Mr. Mohd Radzuan Ahmad Tajuddin \n  \nTo register for the event\, please click the link below and fill in the required details: Click Here >> Online Registration\nPlease find attached the Brochure and Registration form below for your kind perusal. \n  \nShould you have any inquiries\, please do not hesitate to contact us at event@asas.my or +603 6203 4643 .\nCome and join us !!
URL:https://www.asas.my/event/event-1/
CATEGORIES:Training,Training 2020
ATTACH;FMTTYPE=image/png:https://www.asas.my/wp-content/uploads/2016/02/sustanable-finance.png
END:VEVENT
BEGIN:VEVENT
DTSTART;TZID=Asia/Shanghai:20200331T090000
DTEND;TZID=Asia/Shanghai:20200331T170000
DTSTAMP:20260425T001140
CREATED:20200310T071846Z
LAST-MODIFIED:20201202T142511Z
UID:370-1585645200-1585674000@www.asas.my
SUMMARY:FAMILY TAKAFUL PRODUCTS : ANALYSIS FROM SHARIAH PERSPECTIVE
DESCRIPTION:Greetings from Association of Shariah Advisors in Islamic Finance (ASAS)! \nASAS will be organising a course on: \nFAMILY TAKAFUL PRODUCTS : ANALYSIS FROM SHARIAH PERSPECTIVE \nAt the end of the program\, participants will be able to: \n* Understanding the types of Family Takaful products.\n* Understanding the product operational model in Family Takaful products.\n* Keep abreast of the possible Shariah issues and Shariah Non-Compliance classifications for Family Takaful Business. \nDetails of the course is as per below: \nDate : 31 March 2020 (Tuesday)\nTime : 9.00 am – 5.00 pm\nVenue : Hotel Istana\, Kuala Lumpur\nExpert Trainer : Puan Yusaini Yusof \nTo register for the event\, please click the link below and fill in the required details: \nClick Here >> Online Registration \nPlease find attached the Brochure and Registration form below for your kind perusal. \nShould you have any inquiries\, please do not hesitate to contact us at event@asas.my or +603 6203 4643 . \nCome and join us !!
URL:https://www.asas.my/event/family-takaful-products-analysis-from-shariah-perspective/
LOCATION:Hotel Istana\, Kuala Lumpur\, 73\, Jalan Raja Chulan\,\, Bukit Bintang\, Kuala Lumpur\, 50200\, Malaysia
CATEGORIES:Training,Training 2020
ATTACH;FMTTYPE=image/png:https://www.asas.my/wp-content/uploads/2020/03/Family-takaful.png
ORGANIZER;CN="Association%20of%20Shariah%20Advisors%20in%20Islamic%20Finance%20%28ASAS%29":MAILTO:info@asas.my
END:VEVENT
END:VCALENDAR