BEGIN:VCALENDAR
VERSION:2.0
PRODID:-//ASAS PORTAL - ECPv6.0.11//NONSGML v1.0//EN
CALSCALE:GREGORIAN
METHOD:PUBLISH
X-WR-CALNAME:ASAS PORTAL
X-ORIGINAL-URL:https://www.asas.my
X-WR-CALDESC:Events for ASAS PORTAL
REFRESH-INTERVAL;VALUE=DURATION:PT1H
X-Robots-Tag:noindex
X-PUBLISHED-TTL:PT1H
BEGIN:VTIMEZONE
TZID:Asia/Shanghai
BEGIN:STANDARD
TZOFFSETFROM:+0800
TZOFFSETTO:+0800
TZNAME:CST
DTSTART:20250101T000000
END:STANDARD
END:VTIMEZONE
BEGIN:VEVENT
DTSTART;TZID=Asia/Shanghai:20251125T090000
DTEND;TZID=Asia/Shanghai:20251126T170000
DTSTAMP:20260425T232817
CREATED:20251027T044546Z
LAST-MODIFIED:20251027T044546Z
UID:5629-1764061200-1764176400@www.asas.my
SUMMARY:Takaful Masterclass Series: Designing Family Takaful Products with Integrity
DESCRIPTION:🔥 Level Up Your Takaful Expertise! \nJoin our Takaful Masterclass Series: Designing Family Takaful Products with Integrity \n📅 Date : 25 & 26 November 2025\n🕘 Time : 9:00 AM – 5:00 PM\n📍 Venue : ASAS Office\, Kuala Lumpur \nFeaturing industry experts:\n✅ Sharifah Zarina Syed Osman – Principal of SZO Advisory Services\n✅ Mohamad Khairul Daim Ahmad Shamsuri – Senior Partner\, Ashraf & Partners \n💡 Learn practical strategies\, legal & Shariah compliance\, and hands-on product design techniques. \n🎯 Special Price for 2025: RM2\,000 (Normal Price: RM2\,500) \n🔗 Register now : https://forms.gle/iyzuiyxbhENL4dT38 \n>> Download the brochure here << \n📌 Limited seats – Register now via QR code or www.asas.my! \n#Takaful #IslamicFinance #ASAS #ProfessionalDevelopment
URL:https://www.asas.my/event/takaful-masterclass-series-designing-family-takaful-products-with-integrity/
LOCATION:ASAS\, ASAS\, B4-3-1\, Solaris Dutamas\, Kuala Lumpur\, Kuala Lumpur\, 50480\, Malaysia
CATEGORIES:Training
ATTACH;FMTTYPE=image/jpeg:https://www.asas.my/wp-content/uploads/2025/10/WhatsApp-Image-2025-10-27-at-12.02.24-PM.jpeg
END:VEVENT
BEGIN:VEVENT
DTSTART;TZID=Asia/Shanghai:20260102T080000
DTEND;TZID=Asia/Shanghai:20260930T170000
DTSTAMP:20260425T232817
CREATED:20260102T033921Z
LAST-MODIFIED:20260105T012450Z
UID:5678-1767340800-1790787600@www.asas.my
SUMMARY:Continuous Training Programme
DESCRIPTION:  \nWe are pleased to share a preview of our Continuous Training Programme for 2026. This initiative offers a series of professional development opportunities led by experienced trainers. \nMark your calendars and stay connected for further announcements. Make these sessions part of your learning journey in 2026. \nFor enquiries\, please contact us at event@asas.my. \n 
URL:https://www.asas.my/event/continuous-training-programme/
CATEGORIES:Training
END:VEVENT
BEGIN:VEVENT
DTSTART;TZID=Asia/Shanghai:20260112T080000
DTEND;TZID=Asia/Shanghai:20260213T170000
DTSTAMP:20260425T232817
CREATED:20260112T015422Z
LAST-MODIFIED:20260112T015513Z
UID:5698-1768204800-1771002000@www.asas.my
SUMMARY:2nd Intake for ASAS-MAICSA CGQP Programme
DESCRIPTION:💡 BIG NEWS: MAICSA is now a YP ALTI Partner! Apply for Yayasan Peneraju financing and make your dream affordable.💡 \nWe are excited to announce that the 2nd Intake for ASAS-MAICSA CGQP Programme is now open!\nStep into a transformative journey that bridges the Shariah fraternity with the world of Chartered Governance. This is your opportunity to: \n✅ Upskill with globally recognised credentials\n✅ Elevate your career in corporate governance\n✅ Connect with industry-leading professionals \n📌 Important Deadlines:\n✔ YP Financing Scheme: 12 January 2026\n✔ Self-Funded / Institutional: 13 February 2026 \n📲 Register Now: https://forms.gle/NT6JUdPwGRNoxKWo6 \n📩 For enquiries:\nEmail: business@asas.my | WhatsApp: +6019-6176203 \nWe look forward to welcoming you to this exciting programme!
URL:https://www.asas.my/event/2nd-intake-for-asas-maicsa-cgqp-programme/
CATEGORIES:Training
ATTACH;FMTTYPE=image/jpeg:https://www.asas.my/wp-content/uploads/2026/01/WhatsApp-Image-2026-01-09-at-4.26.43-PM.jpeg
END:VEVENT
BEGIN:VEVENT
DTSTART;VALUE=DATE:20260121
DTEND;VALUE=DATE:20260123
DTSTAMP:20260425T232817
CREATED:20251104T063652Z
LAST-MODIFIED:20260102T034534Z
UID:5634-1768953600-1769126399@www.asas.my
SUMMARY:Value-Based Intermediation for Takaful (VBIT) Capacity Building Series
DESCRIPTION: \nDownload VBIT 2026 brochure: VBIT Maqasid Shariah & Sustainable 2026\nDownload registration form: VBIT 2026 Registration Form\n 
URL:https://www.asas.my/event/vbit2026/
LOCATION:Kuala Lumpur
CATEGORIES:Training
ORGANIZER;CN="Association%20of%20Shariah%20Advisors%20in%20Islamic%20Finance%20%28ASAS%29":MAILTO:info@asas.my
END:VEVENT
BEGIN:VEVENT
DTSTART;TZID=Asia/Shanghai:20260201T080000
DTEND;TZID=Asia/Shanghai:20260228T170000
DTSTAMP:20260425T232817
CREATED:20260112T070658Z
LAST-MODIFIED:20260114T074835Z
UID:5703-1769932800-1772298000@www.asas.my
SUMMARY:ISLAMIC BANKING MASTERCLASS SERIES 2026
DESCRIPTION:🚀 ISLAMIC BANKING MASTERCLASS SERIES 2026\nGrounded in Shariah\, Built for Purpose\, Designed for Impact! \nThe Islamic Banking Masterclass is a structured 3‑level professional programme designed to equip Islamic finance practitioners with practical Muamalat application\, product structuring expertise\, and impact‑driven innovation skills. \n👨‍🏫 Led by Mr. Yuzly Bin Yusof\, former Head of Muzn Islamic Bank\, National Bank of Oman\, the programme bridges classical Shariah principles with real world banking practice. \n👥 Who should attend:\nShariah Officers & Advisors\, Product Development Teams\, Innovation & Strategy professionals\, and Legal\, Risk & Compliance practitioners. \n📅 First class for Level 1 will start this February 2026.\n✅ HRD Corp claimable \n📘Level 1: Shariah Governance\, Contract Application and Product Creation Process\n⚙️ Level 2: Structuring\, Assembly & Deconstruction\n🌍 Level 3: Innovation\, ESG & Social Finance \n✨ Bundle Promotion Available:\nRegister for all 3 Levels at a special bundle fee of RM7\,500 (excluding SST)\n📌 Limited seats available: secure your place today. \n📎 Link Registration : https://forms.gle/tzsQTSkdeU9YvBWr5\n📂 Download Brochure here: https://t.ly/B_bE5 \nShould you have any inquiries\, please do not hesitate to contact us at event@asas.my or +603 6203 4643. \n#ASAS #IslamicBanking #ShariahFinance #ESG #IslamicFinanceInnovation #Masterclass
URL:https://www.asas.my/event/islamic-banking-masterclass-series-2026/
CATEGORIES:Training
ATTACH;FMTTYPE=image/jpeg:https://www.asas.my/wp-content/uploads/2026/01/WhatsApp-Image-2026-01-14-at-3.45.39-PM.jpeg
ORGANIZER;CN="Association%20of%20Shariah%20Advisors%20in%20Islamic%20Finance%20%28ASAS%29":MAILTO:info@asas.my
END:VEVENT
BEGIN:VEVENT
DTSTART;VALUE=DATE:20260212
DTEND;VALUE=DATE:20260213
DTSTAMP:20260425T232817
CREATED:20260121T081716Z
LAST-MODIFIED:20260130T091647Z
UID:5719-1770854400-1770940799@www.asas.my
SUMMARY:Nomination & Conditional Hibah under IFSA 2013.
DESCRIPTION:Unlock clarity on one of the most important yet complex areas in takaful practice — Nomination & Conditional Hibah under IFSA 2013. \nJoin us for this 1-day CPD training to gain structured\, practical insights into the legal\, Shariah and regulatory framework governing nomination\, hibah\, wasiat and faraid in takaful. Designed for practitioners\, advisors\, consultants and anyone keen to deepen their understanding. \n📅 12 February 2026\n⏰ 9.00 am – 5.00 pm\n📍 Kuala Lumpur\n🎤 Trainer: Rabaeyatul Adawiyah binti Abu Kassim \nContact us via:\n📞 +603-6203 4643\n📧 event@asas.my \n📄 Register via: https://forms.gle/ZS3ETkmDWwFuT4XQ6 \n📄 Register form \n#Islamicfinance #Takaful #ShariahIsLife #KewanganIslam
URL:https://www.asas.my/event/nomination-conditional-hibah-under-ifsa-2013/
LOCATION:Kuala Lumpur
CATEGORIES:Training
ATTACH;FMTTYPE=image/jpeg:https://www.asas.my/wp-content/uploads/2026/01/WhatsApp-Image-2026-01-22-at-4.50.02-PM.jpeg
ORGANIZER;CN="Association%20of%20Shariah%20Advisors%20in%20Islamic%20Finance%20%28ASAS%29":MAILTO:info@asas.my
END:VEVENT
BEGIN:VEVENT
DTSTART;TZID=Asia/Shanghai:20260407T090000
DTEND;TZID=Asia/Shanghai:20260407T170000
DTSTAMP:20260425T232817
CREATED:20260223T070530Z
LAST-MODIFIED:20260223T071752Z
UID:5799-1775552400-1775581200@www.asas.my
SUMMARY:Fundamentals of Digital Assets and RWA Tokenization
DESCRIPTION:Greetings from the Association of Shariah Advisors in Islamic Finance (ASAS)! \nASAS will be organizing a course on: \nCPD: Fundamentals of Digital Assets and RWA Tokenization \n📚Topic to covered in the training: \n✅ Module 1: The Evolution of Value: From Barter to Bitcoin & The Crypto Landscape.\n✅ Module 2: Digital Asset Taxonomy: Understanding Coins\, Tokens & Tech Foundations.\n✅ Module 3: Shariah Governance: Screening Frameworks & Determining “Mal” (Wealth).\n✅ Module 4: Real World Assets (RWA): The Bridge Between Islamic Finance & DeFi.\n✅ Module 5: Regulatory Governance: SC Guidelines & Industry Case Studies. \n📖 What Will Learners Gain? \n* Demystify the Tech: Move beyond buzzwords to understand the actual mechanics of Blockchain\, Wallets\, and Smart Contracts.\n* Master the Taxonomy: clearly distinguish between E-Money (BNM regulated) and Digital Assets (SC regulated)\, and Coins vs. Tokens.\n* Future-Proofing: Discover why Real World Assets (RWA) are considered “Islamic Finance 3.0” and how they bridge the gap between traditional finance and the digital economy. \nDetails of the course are as per below: \n👨🏻‍🎓Trainer: Mr Saif Khan\n🗓️ Date: 7 April 2026 (Tuesday)\n🕐 Time: 9.00 am – 5.00 pm\n🏫 Venue: Kuala Lumpur \n>>> Register Here <<<<  \nShould you have any inquiries\, please do not hesitate to contact us at event@asas.my or +6019-6176203 (Haziq). \nThank you.
URL:https://www.asas.my/event/fundamentals-of-digital-assets-and-rwa-tokenization/
LOCATION:Kuala Lumpur
CATEGORIES:Training
ATTACH;FMTTYPE=image/jpeg:https://www.asas.my/wp-content/uploads/2026/02/WhatsApp-Image-2026-02-23-at-3.16.31-PM.jpeg
ORGANIZER;CN="Association%20of%20Shariah%20Advisors%20in%20Islamic%20Finance%20%28ASAS%29":MAILTO:info@asas.my
END:VEVENT
BEGIN:VEVENT
DTSTART;TZID=Asia/Shanghai:20260422T090000
DTEND;TZID=Asia/Shanghai:20260423T170000
DTSTAMP:20260425T232817
CREATED:20260112T015141Z
LAST-MODIFIED:20260209T082940Z
UID:5695-1776848400-1776963600@www.asas.my
SUMMARY:Financial Literacy for Non Finance Professionals
DESCRIPTION:We are pleased to announce the commencement of ASAS and MASYREF Collaboration with the title of Financial Literacy for Non Finance Professionals Part 1\, a two day intensive training designed to equip professionals with essential financial knowledge through a Shariah aligned lens. \nThis programme enables participants to interpret key financial statements\, understand core financial and accounting concepts\, assess business performance and risks\, and participate confidently in finance related discussions and decision making without requiring a finance background. \n🗓 9 to 10 February 2026\n🕘 9.00 a.m. to 5.00 p.m.\n📍 Kuala Lumpur \nThis marks an exciting milestone in the ASAS – Masyref collaboration as we introduce practical\, accessible and impactful financial training for the professional community. \n🔗 Physical registration form \n🔗 Online registration via Google Form \nTurning financial information into understanding with confidence \n#ASASMasryef\n#FinancialLiteracy\n#ProfessionalDevelopment\n#CapacityBuilding\n#LifelongLearning
URL:https://www.asas.my/event/financial-literacy-for-non-finance-professionals/
LOCATION:Kuala Lumpur
CATEGORIES:Training
ATTACH;FMTTYPE=image/jpeg:https://www.asas.my/wp-content/uploads/2026/02/FINANCIAL-LITERACY-FOR-NON-FINANCE-PROFESSIONALS_page-0001.jpg
ORGANIZER;CN="Association%20of%20Shariah%20Advisors%20in%20Islamic%20Finance%20%28ASAS%29":MAILTO:info@asas.my
END:VEVENT
BEGIN:VEVENT
DTSTART;TZID=Asia/Shanghai:20260505T090000
DTEND;TZID=Asia/Shanghai:20260505T140000
DTSTAMP:20260425T232817
CREATED:20260212T092731Z
LAST-MODIFIED:20260402T025219Z
UID:5784-1777971600-1777989600@www.asas.my
SUMMARY:Shariah Committee to Board of Directors Readiness Program 2026
DESCRIPTION:Greetings from the Association of Shariah Advisors in Islamic Finance (ASAS)! \nASAS will be organizing a course on: \nShariah Committee to Board of Directors Readiness Program 2026 \nModule 1 : Corporate Governance Essentials \n📚Topic to be covered in the training:\n✅Understand the key roles\, responsibilities\, and legal duties of a Board of Directors\n✅Learn best practices in board governance through real-world case studies\n✅Gain insights from experienced leaders on transitioning from a Shariah Committee to a Board role \nDetails of the course are as per below:\n🗓️ Date: 5 May 2026 (Tuesday)\n🕐 Time:\n9.00am – 12.15pm : Corporate Governance Essentials\n12.15pm – 1.00pm : Panel session\n1.00 pm – 2.00 pm : Lunch & Adjourn\n🏫 Venue: Kuala Lumpur \n>>>> Register Here <<<< \nShould you have any inquiries\, please do not hesitate to contact us at event@asas.my or +60196176203. \nThank you.
URL:https://www.asas.my/event/shariah-committee-to-board-of-directors-readiness-program-2026/
LOCATION:Kuala Lumpur
CATEGORIES:External Programme,Training
ATTACH;FMTTYPE=image/jpeg:https://www.asas.my/wp-content/uploads/2026/02/Shariah-Committee-Readiness-Programme.jpg
ORGANIZER;CN="Association%20of%20Shariah%20Advisors%20in%20Islamic%20Finance%20%28ASAS%29":MAILTO:info@asas.my
END:VEVENT
BEGIN:VEVENT
DTSTART;VALUE=DATE:20260512
DTEND;VALUE=DATE:20260715
DTSTAMP:20260425T232817
CREATED:20260409T034526Z
LAST-MODIFIED:20260410T064859Z
UID:5871-1778544000-1784073599@www.asas.my
SUMMARY:Qiraah Nassiyah on Maqasid Syariah Series
DESCRIPTION:Greetings from the Association of Shariah Advisors in Islamic Finance (ASAS)! \nASAS will be organizing a Continuous Professional Development (CPD): Qiraah Nassiyah on Maqasid Syariah Series \nGo beyond surface-level understanding—return to the roots that truly shape Shariah decisions. 🌱📖 \nThe Qiraah Nassiyah on Maqasid Syariah Series is not just another training—it’s a journey back to turath (classical Islamic texts)\, where authentic principles are built\, refined\, and preserved. From these rich foundations\, you will learn how to confidently govern\, evaluate\, and implement Shariah in today’s complex Islamic finance landscape. \nIn an industry that demands clarity and precision\, strong grounding in turath is no longer optional—it’s essential. This programme is carefully designed to help you:\n✨ Strengthen your core understanding of Maqasid Shariah\n✨ Anchor your decisions in authoritative classical references\n✨ Translate timeless principles into practical\, contemporary applications\n✨ Enhance your credibility as a Shariah professional \n👥 Tailored for you if you are:\nLecturers\, Researchers\, Shariah Officers or Shariah Committee members in:\nBanking | Takaful | Islamic Capital Market | Cooperatives | Zakat & Waqaf Institutions | Universities \n📅 Programme Schedule (3 Days | 9:00 a.m. – 5:00 p.m.)\n* 12 May 2026 (Tuesday) – Series 1\n* 4 June 2026 (Thursday) – Series 2\n* 14 July 2026 (Tuesday) – Series 3 \n📍 Venue: Kuala Lumpur\n🤵‍♂️Trainer: Ustaz Izzam Khazar\, Research Consultant at ISRA Institute and Executive Leadership Consultant at IBFIM \n💡 Early Bird Offer: Enjoy a 5% discount for early registrations.\n*Please register before 30 April 2026 to be eligible for a 5% discount. \n📩 Register now & secure your seat!\n>>>>> REGISTER HERE <<<<< \nShould you have any inquiries\, please do not hesitate to contact us at event@asas.my\nor +60196176203 / +60362034643. \nThank you.
URL:https://www.asas.my/event/qiraah-nassiyah-on-maqasid-syariah-series/
LOCATION:Kuala Lumpur
CATEGORIES:Training
ATTACH;FMTTYPE=image/jpeg:https://www.asas.my/wp-content/uploads/2026/04/CPD-2026-1_page-0001.jpg
ORGANIZER;CN="Association%20of%20Shariah%20Advisors%20in%20Islamic%20Finance%20%28ASAS%29":MAILTO:info@asas.my
END:VEVENT
BEGIN:VEVENT
DTSTART;VALUE=DATE:20260519
DTEND;VALUE=DATE:20260520
DTSTAMP:20260425T232817
CREATED:20260407T071856Z
LAST-MODIFIED:20260407T071856Z
UID:5867-1779148800-1779235199@www.asas.my
SUMMARY:BNPL Under CCA 2025: Building Responsible Credit for Sustainable Financial Stability
DESCRIPTION:Greetings from the Association of Shariah Advisors in Islamic Finance (ASAS)! \nASAS will be organizing a course on: \nBNPL Under CCA 2025: Building Responsible Credit for Sustainable Financial Stability \n📚Topic to be covered in the training:\n– BNPL in a Nutshell – Evolution of BNPL\, Consumer Behaviour and Trends\n– BNPL in Malaysian Context – Market Landscape\, Key BNPL Providers\, Consumer Usage Statistics\n– The Regulatory Framework –Consumer Credit laws in Malaysia and the recent Enactment of Consumer Credit Act 2025\n– Debt from the Islamic Perspective – Does BNPL Trigger Riba?\n– Why BNPL Warrants Serious Attention?\n>> Microeconomic Impact:\n– Personal financial health\, over-indebtedness\, and behavioural risks\n>> Macroeconomic Impact:\n– Household debt trends and financial system stability\n– Implications for sustainable economic growth \nDetails of the course are as per below:\n🗓️ Date: 19 May 2026 (Tuesday)\n🕐 Time: 9 am – 5 pm\n👨🏻‍🎓 Trainer: Mrs Kartini Yusoff\n🏫 Venue: Kuala Lumpur \n>>>> Register Here <<<< \nShould you have any inquiries\, please do not hesitate to contact us at event@asas.my or +60196176203 @ +60362034643. \nThank you.
URL:https://www.asas.my/event/bnpl-under-cca-2025-building-responsible-credit-for-sustainable-financial-stability/
LOCATION:Kuala Lumpur
CATEGORIES:Training
ATTACH;FMTTYPE=image/jpeg:https://www.asas.my/wp-content/uploads/2026/04/CPD-2026_page-0001.jpg
ORGANIZER;CN="Association%20of%20Shariah%20Advisors%20in%20Islamic%20Finance%20%28ASAS%29":MAILTO:info@asas.my
END:VEVENT
BEGIN:VEVENT
DTSTART;TZID=Asia/Shanghai:20260602T090000
DTEND;TZID=Asia/Shanghai:20260603T170000
DTSTAMP:20260425T232817
CREATED:20260224T024648Z
LAST-MODIFIED:20260224T032314Z
UID:5805-1780390800-1780506000@www.asas.my
SUMMARY:Takaful Masterclass Series: Designing Family Takaful Products with Integrity
DESCRIPTION:Enhance Your Organisation’s Capability in Family Takaful Product Design \nASAS is pleased to present the Takaful Masterclass Series: Designing Family Takaful Products with Integrity – a specialised programme designed for organisations seeking to strengthen their product governance\, Shariah compliance\, and market competitiveness. \n  \n📅 Intake 1: 2–3 June 2026 ( 2 Days) \n🕘 Time: 9:00 AM – 5:00 PM\n📍 Venue: ASAS Office\, Kuala Lumpur \n  \nProgramme Highlights: \n– Practical approaches to designing Family Takaful products aligned with Shariah principles and regulatory requirements \n– Key legal considerations and risk mitigation strategies in product structuring \n– Hands-on insights into contemporary product design and documentation \n– Best practices to ensure product integrity\, sustainability\, and market relevance \n  \nFeaturing industry experts:\n🧕🏻Sharifah Zarina Syed Osman – Principal of SZO Advisory Services\n🤵‍♂️ Mohamad Khairul Daim Ahmad Shamsuri – Senior Partner\, Ashraf & Partners \n  \n🎯 Ideal for:\nTakaful operators\, product development teams\, Shariah advisory and review functions\, legal & compliance professionals\, and senior management involved in product approval and governance. \n  \n✅ HRD Claimable: Yes\n📌 Limited seats available to ensure focused discussion and effective engagement. \n  \nRegister Here: https://shorturl.at/SVRoT\n( Please complete the registration form and submit to event@asas.my ) \n  \nWe invite your organisation to invest in structured learning that supports sound governance and high-quality Family Takaful offerings. \nContact us via:\n📞 +603-6203 4643\n📧 event@asas.my \n#Takaful #IslamicFinance #ASAS #CorporateTraining #ProfessionalDevelopment #HRDClaimable
URL:https://www.asas.my/event/takaful-masterclass-series-designing-family-takaful-products-with-integrity-2/
LOCATION:ASAS\, ASAS\, B4-3-1\, Solaris Dutamas\, Kuala Lumpur\, Kuala Lumpur\, 50480\, Malaysia
CATEGORIES:Training
ATTACH;FMTTYPE=image/jpeg:https://www.asas.my/wp-content/uploads/2026/02/Masterclass-Series-2026_compressed_page-0001-scaled.jpg
ORGANIZER;CN="Association%20of%20Shariah%20Advisors%20in%20Islamic%20Finance%20%28ASAS%29":MAILTO:info@asas.my
END:VEVENT
END:VCALENDAR