BEGIN:VCALENDAR
VERSION:2.0
PRODID:-//ASAS PORTAL - ECPv6.0.11//NONSGML v1.0//EN
CALSCALE:GREGORIAN
METHOD:PUBLISH
X-WR-CALNAME:ASAS PORTAL
X-ORIGINAL-URL:https://www.asas.my
X-WR-CALDESC:Events for ASAS PORTAL
REFRESH-INTERVAL;VALUE=DURATION:PT1H
X-Robots-Tag:noindex
X-PUBLISHED-TTL:PT1H
BEGIN:VTIMEZONE
TZID:Asia/Shanghai
BEGIN:STANDARD
TZOFFSETFROM:+0800
TZOFFSETTO:+0800
TZNAME:CST
DTSTART:20200101T000000
END:STANDARD
END:VTIMEZONE
BEGIN:VEVENT
DTSTART;TZID=Asia/Shanghai:20200331T090000
DTEND;TZID=Asia/Shanghai:20200331T170000
DTSTAMP:20260425T202037
CREATED:20200310T071846Z
LAST-MODIFIED:20201202T142511Z
UID:370-1585645200-1585674000@www.asas.my
SUMMARY:FAMILY TAKAFUL PRODUCTS : ANALYSIS FROM SHARIAH PERSPECTIVE
DESCRIPTION:Greetings from Association of Shariah Advisors in Islamic Finance (ASAS)! \nASAS will be organising a course on: \nFAMILY TAKAFUL PRODUCTS : ANALYSIS FROM SHARIAH PERSPECTIVE \nAt the end of the program\, participants will be able to: \n* Understanding the types of Family Takaful products.\n* Understanding the product operational model in Family Takaful products.\n* Keep abreast of the possible Shariah issues and Shariah Non-Compliance classifications for Family Takaful Business. \nDetails of the course is as per below: \nDate : 31 March 2020 (Tuesday)\nTime : 9.00 am – 5.00 pm\nVenue : Hotel Istana\, Kuala Lumpur\nExpert Trainer : Puan Yusaini Yusof \nTo register for the event\, please click the link below and fill in the required details: \nClick Here >> Online Registration \nPlease find attached the Brochure and Registration form below for your kind perusal. \nShould you have any inquiries\, please do not hesitate to contact us at event@asas.my or +603 6203 4643 . \nCome and join us !!
URL:https://www.asas.my/event/family-takaful-products-analysis-from-shariah-perspective/
LOCATION:Hotel Istana\, Kuala Lumpur\, 73\, Jalan Raja Chulan\,\, Bukit Bintang\, Kuala Lumpur\, 50200\, Malaysia
CATEGORIES:Training,Training 2020
ATTACH;FMTTYPE=image/png:https://www.asas.my/wp-content/uploads/2020/03/Family-takaful.png
ORGANIZER;CN="Association%20of%20Shariah%20Advisors%20in%20Islamic%20Finance%20%28ASAS%29":MAILTO:info@asas.my
END:VEVENT
END:VCALENDAR