BEGIN:VCALENDAR
VERSION:2.0
PRODID:-//ASAS PORTAL - ECPv6.0.11//NONSGML v1.0//EN
CALSCALE:GREGORIAN
METHOD:PUBLISH
X-WR-CALNAME:ASAS PORTAL
X-ORIGINAL-URL:https://www.asas.my
X-WR-CALDESC:Events for ASAS PORTAL
REFRESH-INTERVAL;VALUE=DURATION:PT1H
X-Robots-Tag:noindex
X-PUBLISHED-TTL:PT1H
BEGIN:VTIMEZONE
TZID:Asia/Shanghai
BEGIN:STANDARD
TZOFFSETFROM:+0800
TZOFFSETTO:+0800
TZNAME:CST
DTSTART:20200101T000000
END:STANDARD
END:VTIMEZONE
BEGIN:VEVENT
DTSTART;TZID=Asia/Shanghai:20210626T100000
DTEND;TZID=Asia/Shanghai:20210626T120000
DTSTAMP:20260425T214907
CREATED:20210618T155233Z
LAST-MODIFIED:20210618T160743Z
UID:1415-1624701600-1624708800@www.asas.my
SUMMARY:ICIFE's Roundtable Discussion Series (IRDS)
DESCRIPTION:  \nSir / Madam\, \nInternational Council of Islamic Finance Educators (ICIFE) in collaboration with Association of Shariah Advisors In Islamic Finance – ASAS is pleased to inform that we are organizing ICIFE’s Roundtable Discussion Series (IRDS) as follows: \n\nTopic: 𝐒𝐡𝐚𝐫𝐢𝐚𝐡 𝐆𝐨𝐯𝐞𝐫𝐧𝐚𝐧𝐜𝐞 𝐏𝐨𝐥𝐢𝐜𝐲 𝐃𝐨𝐜𝐮𝐦𝐞𝐧𝐭 (𝟐𝟎𝟏𝟗)\nDate / Day: 𝟐𝟔𝐭𝐡 𝐉𝐮𝐧𝐞 𝟐𝟎𝟐𝟏 / 𝐒𝐚𝐭𝐮𝐫𝐝𝐚𝐲\nTime: 𝟏𝟎.𝟎𝟎 𝐚𝐦 – 𝟏𝟐.𝟎𝟎 𝐩𝐦 (𝐆𝐌𝐓 +𝟖)\n𝙫𝙞𝙖 𝙯𝙤𝙤𝙢 𝙥𝙡𝙖𝙩𝙛𝙤𝙧𝙢\n \nThis forum will discuss the requirements and the emerging issues on the implementation of SGPD. The objective of the discussion is also to identify and discuss the educational needs to effectively teach SGPD as part of the Islamic finance curriculum especially in Malaysia\nICIFE cordially invites you to this IRDS and kindly register at this link\n \nhttps://forms.gle/RLDyvCdX6HgRS5qA6\n\n  \nThank you.
URL:https://www.asas.my/event/icifes-roundtable-discussion-series-irds/
LOCATION:Zoom Platform
CATEGORIES:External Programme
ATTACH;FMTTYPE=image/jpeg:https://www.asas.my/wp-content/uploads/2021/06/IRDS.jpeg
END:VEVENT
BEGIN:VEVENT
DTSTART;TZID=Asia/Shanghai:20210324T153000
DTEND;TZID=Asia/Shanghai:20210324T170000
DTSTAMP:20260425T214907
CREATED:20210324T070720Z
LAST-MODIFIED:20210618T152040Z
UID:1362-1616599800-1616605200@www.asas.my
SUMMARY:Shariah Investing Dialogue 2021 : Sustainable & Responsible Investing Within The Notion of Maqasid Al-Shariah
DESCRIPTION:REGISTER NOW!  \n  \nJoin us to hear from these thought leaders of “Sustainable and Responsible Investing within the Notion of Maqasid al-Shariah”\, happening on Wednesday\, 24 March 2021 at 3:30 p.m. (GMT+8). \n  \nRegister now >> Click Here \n  \n#SID2021 \n#ShariahInvesting \n#InvestShariah
URL:https://www.asas.my/event/shariah-investing-dialogue-2021-sustainable-responsible-investing-within-the-notion-of-maqasid-al-shariah/
CATEGORIES:Conference 2021
ATTACH;FMTTYPE=image/png:https://www.asas.my/wp-content/uploads/2021/03/Register-Now-Landscape.png
END:VEVENT
BEGIN:VEVENT
DTSTART;TZID=Asia/Shanghai:20201117T230000
DTEND;TZID=Asia/Shanghai:20201118T010000
DTSTAMP:20260425T214907
CREATED:20160331T053757Z
LAST-MODIFIED:20201203T040319Z
UID:99-1605654000-1605661200@www.asas.my
SUMMARY:Shariah Investing Dialogue Series 2020 - "Shariah Fraternity : Setting the Pace of Innovative Thinking"
DESCRIPTION:Join us to hear from these thought leaders of “Shariah Fraternity: Setting the Pace of Innovative Thinking”\, happening on Tuesday\, 17 November 2020. \n  \nRegister now at https://app.islamicmarkets.com/live/bursa-malaysia-i/shariah-investing-dialogue-series-2020-series-2 \n  \n 
URL:https://www.asas.my/event/shariah-investing-dialogue-series-2/
LOCATION:Level 1
CATEGORIES:Conference 2020,Webinar
ATTACH;FMTTYPE=image/png:https://www.asas.my/wp-content/uploads/2016/03/SID-2020-Series-2-Register-Now-Landscape-v1-02112020.png
END:VEVENT
BEGIN:VEVENT
DTSTART;TZID=Asia/Shanghai:20201012T150000
DTEND;TZID=Asia/Shanghai:20201012T170000
DTSTAMP:20260425T214907
CREATED:20200403T040948Z
LAST-MODIFIED:20201202T142448Z
UID:955-1602514800-1602522000@www.asas.my
SUMMARY:Shariah Investing Dialogue 2020 Series 2020 - "Investment in the Future : Shariah Fraternity's Role in Islamic Capital Market
DESCRIPTION:Join us to hear from these thought leaders of “Investment in the Future: Shariah Fraternity’s Role in Islamic Capital Market”\, happening on Wednesday\, 12 October 2020. Register now! \n  \nhttps://app.islamicmarkets.com/live/bursa-malaysia-i/shariah-investing-dialogue-series-2020-series-1 .
URL:https://www.asas.my/event/shariah-investing-dialogue-1/
CATEGORIES:Conference 2020
ATTACH;FMTTYPE=image/png:https://www.asas.my/wp-content/uploads/2020/04/SID-2020-Series-1-Register-Now-Promo-Visual-vf-13102020.png
END:VEVENT
BEGIN:VEVENT
DTSTART;TZID=Asia/Shanghai:20200331T090000
DTEND;TZID=Asia/Shanghai:20200410T170000
DTSTAMP:20260425T214907
CREATED:20160225T050428Z
LAST-MODIFIED:20200712T034203Z
UID:102-1585645200-1586538000@www.asas.my
SUMMARY:Sustainable Finance and Investment
DESCRIPTION:ABOUT THE PROGRAMME : \nThe increase traction for finance and markets to play a leading role to support achieving the goals of the United Nation’s sustainable development and more specifically climate change have witnessed unprecedented global responses. Participation of international bodies and agencies\, regulatory and supervisory authorities (RSAs) and financial markets have witnessed significant development and growth in sustainable finance and investment practices. \nThe workshop on Sustainable Finance and Investment aims to shed light on the development of sustainable finance globally including development of sustainability principles\, standards\, best practices and frameworks with a view to shift and reorient finance and capital\, including via climate and Islamic finance\, to support the objectives of public good\, change the economy into one that is environmentally-sustainable and promote climate resilience. The workshop will also highlight Islamic sustainable finance practices and discuss the current state and pace of Islamic finance evolution. \n  \nPROGRAMME OBJECTIVES : \nThe workshop is designed and intended to: \n\nIncrease awareness and understanding of sustainable finance and investment.\nBuild internal capacity and competency of institutions and its personnel.\nDemonstrate Islamic sustainable finance practices and share experiences of jurisdictions and institutions\, the lessons learnt and challenges it faces.\nAssist integrating sustainability risks into overall enterprise risk management framework\n\nDetails of the course is as per below: \nDate : 31 March – 2 April 2020 (Tuesday – Thursday)\nTime : 9.00 am – 5.00 pm\nVenue : Hotel Istana\, Kuala Lumpur\nExpert Trainer : Mr. Mohd Radzuan Ahmad Tajuddin \n  \nTo register for the event\, please click the link below and fill in the required details: Click Here >> Online Registration\nPlease find attached the Brochure and Registration form below for your kind perusal. \n  \nShould you have any inquiries\, please do not hesitate to contact us at event@asas.my or +603 6203 4643 .\nCome and join us !!
URL:https://www.asas.my/event/event-1/
CATEGORIES:Training,Training 2020
ATTACH;FMTTYPE=image/png:https://www.asas.my/wp-content/uploads/2016/02/sustanable-finance.png
END:VEVENT
BEGIN:VEVENT
DTSTART;TZID=Asia/Shanghai:20200331T090000
DTEND;TZID=Asia/Shanghai:20200331T170000
DTSTAMP:20260425T214907
CREATED:20200310T071846Z
LAST-MODIFIED:20201202T142511Z
UID:370-1585645200-1585674000@www.asas.my
SUMMARY:FAMILY TAKAFUL PRODUCTS : ANALYSIS FROM SHARIAH PERSPECTIVE
DESCRIPTION:Greetings from Association of Shariah Advisors in Islamic Finance (ASAS)! \nASAS will be organising a course on: \nFAMILY TAKAFUL PRODUCTS : ANALYSIS FROM SHARIAH PERSPECTIVE \nAt the end of the program\, participants will be able to: \n* Understanding the types of Family Takaful products.\n* Understanding the product operational model in Family Takaful products.\n* Keep abreast of the possible Shariah issues and Shariah Non-Compliance classifications for Family Takaful Business. \nDetails of the course is as per below: \nDate : 31 March 2020 (Tuesday)\nTime : 9.00 am – 5.00 pm\nVenue : Hotel Istana\, Kuala Lumpur\nExpert Trainer : Puan Yusaini Yusof \nTo register for the event\, please click the link below and fill in the required details: \nClick Here >> Online Registration \nPlease find attached the Brochure and Registration form below for your kind perusal. \nShould you have any inquiries\, please do not hesitate to contact us at event@asas.my or +603 6203 4643 . \nCome and join us !!
URL:https://www.asas.my/event/family-takaful-products-analysis-from-shariah-perspective/
LOCATION:Hotel Istana\, Kuala Lumpur\, 73\, Jalan Raja Chulan\,\, Bukit Bintang\, Kuala Lumpur\, 50200\, Malaysia
CATEGORIES:Training,Training 2020
ATTACH;FMTTYPE=image/png:https://www.asas.my/wp-content/uploads/2020/03/Family-takaful.png
ORGANIZER;CN="Association%20of%20Shariah%20Advisors%20in%20Islamic%20Finance%20%28ASAS%29":MAILTO:info@asas.my
END:VEVENT
END:VCALENDAR