BEGIN:VCALENDAR
VERSION:2.0
PRODID:-//ASAS PORTAL - ECPv6.0.11//NONSGML v1.0//EN
CALSCALE:GREGORIAN
METHOD:PUBLISH
X-ORIGINAL-URL:https://www.asas.my
X-WR-CALDESC:Events for ASAS PORTAL
REFRESH-INTERVAL;VALUE=DURATION:PT1H
X-Robots-Tag:noindex
X-PUBLISHED-TTL:PT1H
BEGIN:VTIMEZONE
TZID:Asia/Shanghai
BEGIN:STANDARD
TZOFFSETFROM:+0800
TZOFFSETTO:+0800
TZNAME:CST
DTSTART:20250101T000000
END:STANDARD
END:VTIMEZONE
BEGIN:VEVENT
DTSTART;TZID=Asia/Shanghai:20251111T080000
DTEND;TZID=Asia/Shanghai:20251112T170000
DTSTAMP:20260425T060417
CREATED:20251010T093132Z
LAST-MODIFIED:20251010T093403Z
UID:5597-1762848000-1762966800@www.asas.my
SUMMARY:ISLAMIC BANKING MASTERCLASS SERIES 2025
DESCRIPTION:🚀 ISLAMIC BANKING MASTERCLASS SERIES 2025\nGrounded in Shariah\, Built for Purpose\, Designed for Impact! \nJoin our 3-level masterclass by Association of Shariah Advisors in Islamic Finance Malaysia (ASAS) that designed to empower Islamic finance professionals with real world application\, strategic structuring\, and innovation for sustainability. \n📘 Level 1: Muamalat in Practice & Shariah Governance\n⚙️ Level 2: Structuring\, Assembly & Deconstruction\n🌍 Level 3: Innovation\, ESG & Social Finance \nJOIN ALL 3 LEVELS AND UNLOCK SPECIAL BUNDLE PRICE PROMOTIONS! \nFirst Class for Level 1 will be held as per the details below: \n📅 11–12 November 2025\n📍 ASAS Office\, Kuala Lumpur\n🎓 HRD Corp Claimable\n👨🏻‍💼Trainer: Industry expert Mr. Yuzly Bin Yusof \n🔗 Register now and unlock your mastery in Islamic banking \n>> Download the brochure here << \n#ASAS #IslamicBanking #ShariahFinance #ESG #IslamicFinanceInnovation #Masterclass
URL:https://www.asas.my/event/islamic-banking-masterclass-series-2025/
LOCATION:ASAS\, ASAS\, B4-3-1\, Solaris Dutamas\, Kuala Lumpur\, Kuala Lumpur\, 50480\, Malaysia
CATEGORIES:Training
ATTACH;FMTTYPE=image/jpeg:https://www.asas.my/wp-content/uploads/2025/10/f6257a36-0c98-492e-a934-70cf4c068230.jpg
ORGANIZER;CN="Association%20of%20Shariah%20Advisors%20in%20Islamic%20Finance%20%28ASAS%29":MAILTO:info@asas.my
END:VEVENT
BEGIN:VEVENT
DTSTART;TZID=Asia/Shanghai:20251125T090000
DTEND;TZID=Asia/Shanghai:20251126T170000
DTSTAMP:20260425T060417
CREATED:20251027T044546Z
LAST-MODIFIED:20251027T044546Z
UID:5629-1764061200-1764176400@www.asas.my
SUMMARY:Takaful Masterclass Series: Designing Family Takaful Products with Integrity
DESCRIPTION:🔥 Level Up Your Takaful Expertise! \nJoin our Takaful Masterclass Series: Designing Family Takaful Products with Integrity \n📅 Date : 25 & 26 November 2025\n🕘 Time : 9:00 AM – 5:00 PM\n📍 Venue : ASAS Office\, Kuala Lumpur \nFeaturing industry experts:\n✅ Sharifah Zarina Syed Osman – Principal of SZO Advisory Services\n✅ Mohamad Khairul Daim Ahmad Shamsuri – Senior Partner\, Ashraf & Partners \n💡 Learn practical strategies\, legal & Shariah compliance\, and hands-on product design techniques. \n🎯 Special Price for 2025: RM2\,000 (Normal Price: RM2\,500) \n🔗 Register now : https://forms.gle/iyzuiyxbhENL4dT38 \n>> Download the brochure here << \n📌 Limited seats – Register now via QR code or www.asas.my! \n#Takaful #IslamicFinance #ASAS #ProfessionalDevelopment
URL:https://www.asas.my/event/takaful-masterclass-series-designing-family-takaful-products-with-integrity/
LOCATION:ASAS\, ASAS\, B4-3-1\, Solaris Dutamas\, Kuala Lumpur\, Kuala Lumpur\, 50480\, Malaysia
CATEGORIES:Training
ATTACH;FMTTYPE=image/jpeg:https://www.asas.my/wp-content/uploads/2025/10/WhatsApp-Image-2025-10-27-at-12.02.24-PM.jpeg
END:VEVENT
END:VCALENDAR